1.5625
0
0
-1.5625
194956.148024
588336.431268
