1.5625
0
0
-1.5625
123314.026024
517643.908248
