1.5625
0
0
-1.5625
229587.308024
436822.166008
