1.5625
0
0
-1.5625
193115.597024
554409.326161
