1.5625
0
0
-1.5625
180689.255024
398759.86861
