1.5625
0
0
-1.5625
114397.638024
568691.04276
