1.5625
0
0
-1.5625
185574.407024
457833.137028
