1.5625
0
0
-1.5625
172460.146024
434730.918386
