1.5625
0
0
-1.5625
242490.148024
476754.472709
