1.5625
0
0
-1.5625
170400.949024
426021.35715
