1.5625
0
0
-1.5625
227378.226024
605393.148055
