1.5625
0
0
-1.5625
75471.6030236
417528.201008
