1.5625
0
0
-1.5625
103677.686024
559891.777067
