1.5625
0
0
-1.5625
231853.108024
471318.329657
