1.5625
0
0
-1.5625
133572.652024
416190.110154
