1.5625
0
0
-1.5625
193565.315024
595092.213709
