1.5625
0
0
-1.5625
198441.971024
572750.329902
