1.5625
0
0
-1.5625
203076.444024
574628.520583
