1.5625
0
0
-1.5625
55186.1290236
417451.827677
