1.5625
0
0
-1.5625
102913.224024
496774.208701
