1.5625
0
0
-1.5625
114042.546024
512647.469094
