1.5625
0
0
-1.5625
41880.6890236
383960.808839
