1.5625
0
0
-1.5625
201051.519024
582383.604169
