1.5625
0
0
-1.5625
122342.821024
418664.250358
