1.5625
0
0
-1.5625
171061.080024
573918.233921
