1.5625
0
0
-1.5625
185863.433024
349961.198264
