1.5625
0
0
-1.5625
181530.235024
544498.900689
