1.5625
0
0
-1.5625
179530.346024
315141.712094
