1.5625
0
0
-1.5625
231714.978024
574541.226713
