1.5625
0
0
-1.5625
229848.245024
579984.179217
