1.5625
0
0
-1.5625
143451.447024
478348.220126
