1.5625
0
0
-1.5625
247270.771024
612747.471874
