1.5625
0
0
-1.5625
146048.012024
377375.418386
