1.5625
0
0
-1.5625
129170.234024
418036.852969
