1.5625
0
0
-1.5625
190730.202024
318126.580665
