1.5625
0
0
-1.5625
201607.213024
464372.694043
