1.5625
0
0
-1.5625
142816.686024
539596.950256
