1.5625
0
0
-1.5625
141555.316024
433671.785929
