1.5625
0
0
-1.5625
174674.706024
433365.518831
