1.5625
0
0
-1.5625
251446.820024
548789.023028
