1.5625
0
0
-1.5625
191393.592024
317819.76178
