1.5625
0
0
-1.5625
255410.032024
594949.027677
