1.5625
0
0
-1.5625
223553.300024
530868.138138
