1.5625
0
0
-1.5625
207091.606024
542042.267472
