1.5625
0
0
-1.5625
181317.928024
569634.133587
