1.5625
0
0
-1.5625
110239.487024
393894.26215
