1.5625
0
0
-1.5625
180588.062024
418709.650256
