1.5625
0
0
-1.5625
233566.136024
500945.941126
