1.5625
0
0
-1.5625
75694.3160236
432131.276811
