1.5625
0
0
-1.5625
228191.314024
465482.577362
